BEGIN:VCALENDAR
VERSION:2.0
PRODID:-//Barcelona - ECPv5.3.2.1//NONSGML v1.0//EN
CALSCALE:GREGORIAN
METHOD:PUBLISH
X-WR-CALNAME:Barcelona
X-ORIGINAL-URL:https://barcelonacolumbus.com
X-WR-CALDESC:Events for Barcelona
BEGIN:VTIMEZONE
TZID:America/New_York
BEGIN:DAYLIGHT
TZOFFSETFROM:-0500
TZOFFSETTO:-0400
TZNAME:EDT
DTSTART:20260308T070000
END:DAYLIGHT
BEGIN:STANDARD
TZOFFSETFROM:-0400
TZOFFSETTO:-0500
TZNAME:EST
DTSTART:20261101T060000
END:STANDARD
END:VTIMEZONE
BEGIN:VEVENT
DTSTART;TZID=America/New_York:20260324T170000
DTEND;TZID=America/New_York:20260324T190000
DTSTAMP:20260420T041459
CREATED:20260226T175233Z
LAST-MODIFIED:20260226T175233Z
UID:7457-1774371600-1774378800@barcelonacolumbus.com
SUMMARY:Artist Reception
DESCRIPTION:Join us for a reception for our featured artist\nKatharina Simo\nCome meet and chat with Katie about her current show at Barcelona.\nHappy Hour cocktails and light appetizers available.
URL:https://barcelonacolumbus.com/event/artist-reception-3/
LOCATION:Barcelona Restaurant\, 263 E. Whittier St.\, Columbus\, OH\, 43206\, United States
END:VEVENT
END:VCALENDAR