BEGIN:VCALENDAR
VERSION:2.0
PRODID:-//Barcelona - ECPv5.3.2.1//NONSGML v1.0//EN
CALSCALE:GREGORIAN
METHOD:PUBLISH
X-WR-CALNAME:Barcelona
X-ORIGINAL-URL:https://barcelonacolumbus.com
X-WR-CALDESC:Events for Barcelona
BEGIN:VTIMEZONE
TZID:America/New_York
BEGIN:DAYLIGHT
TZOFFSETFROM:-0500
TZOFFSETTO:-0400
TZNAME:EDT
DTSTART:20260308T070000
END:DAYLIGHT
BEGIN:STANDARD
TZOFFSETFROM:-0400
TZOFFSETTO:-0500
TZNAME:EST
DTSTART:20261101T060000
END:STANDARD
END:VTIMEZONE
BEGIN:VEVENT
DTSTART;TZID=America/New_York:20260503T170000
DTEND;TZID=America/New_York:20260503T190000
DTSTAMP:20260425T072427
CREATED:20260422T161537Z
LAST-MODIFIED:20260422T161537Z
UID:7587-1777827600-1777834800@barcelonacolumbus.com
SUMMARY:Artist Reception - Stephen Swartz
DESCRIPTION:Join us for a special Artist Reception\nSunday\, May 3\, 5 – 7pm\nStephen Swartz is making a return visit to exhibit at Barcelona after 20 years of living in Germany.\nStephen Swartz (born 1973) is a multidisciplinary\, photography-based artist known for his abstract analog work. A Columbus\, Ohio native\, he received his BFA from the Columbus College of Art & Design (CCAD) in 1997. For more than 20 years\, Swartz has lived in Germany\, where his practice has evolved through the use of alternative photographic processes and digital experimentation. Blending analog techniques with exploratory digital methods\, his work questions the boundaries of photographic media while addressing themes of perception and materiality. Swartz has produced numerous distinct series\, each driven by process\, chance\, and reinvention\, reflecting a deeply personal and materially engaged approach to contemporary photography. \nAWONDER:22YL marks a return to a pivotal body of work by Stephen Swartz. Twenty-two years after his final U.S. exhibition at Barcelona Columbus\, Swartz revisits his photographic abstractions inspired by Alice’s Adventures in Wonderland by Lewis Carroll. Rather than retelling the narrative\, the original works distilled its characters and moments into dreamlike visual chaos. \nReimagined through contemporary techniques and two decades of artistic growth\, the series becomes a dialogue across time. The images\, though still playful interpretations\, move beyond and toward deeper reflections on perception\, memory\, and transformation—revealing how evolving vision can reshape familiar stories into new psychological and visual landscapes. The result is a body of work suspended between past and present—an echo of the original journey\, and a new step further down the rabbit hole.
URL:https://barcelonacolumbus.com/event/artist-reception-stephen-swartz/
END:VEVENT
END:VCALENDAR