BEGIN:VCALENDAR
VERSION:2.0
PRODID:-//Barcelona - ECPv5.3.2.1//NONSGML v1.0//EN
CALSCALE:GREGORIAN
METHOD:PUBLISH
X-WR-CALNAME:Barcelona
X-ORIGINAL-URL:https://barcelonacolumbus.com
X-WR-CALDESC:Events for Barcelona
BEGIN:VTIMEZONE
TZID:America/New_York
BEGIN:DAYLIGHT
TZOFFSETFROM:-0500
TZOFFSETTO:-0400
TZNAME:EDT
DTSTART:20240310T070000
END:DAYLIGHT
BEGIN:STANDARD
TZOFFSETFROM:-0400
TZOFFSETTO:-0500
TZNAME:EST
DTSTART:20241103T060000
END:STANDARD
END:VTIMEZONE
BEGIN:VEVENT
DTSTART;TZID=America/New_York:20240409T170000
DTEND;TZID=America/New_York:20240409T190000
DTSTAMP:20260420T140516
CREATED:20240314T155716Z
LAST-MODIFIED:20240314T160418Z
UID:5284-1712682000-1712689200@barcelonacolumbus.com
SUMMARY:Artists' Reception for Elliot Twelvetrees and Colin Dearth
DESCRIPTION:Please join us on Tuesday\, April 9 from 5pm to 7pm to meet our featured artists\,\nElliot Twelvetrees and Colin Dearth. \nComplimentary light tapas will be provided at the reception. \nHappy Hour at the bar is from 4pm to 6pm!
URL:https://barcelonacolumbus.com/event/artists-reception-for-elliot-twelvetrees-and-colin-dearth/
END:VEVENT
END:VCALENDAR