BEGIN:VCALENDAR
VERSION:2.0
PRODID:-//Barcelona - ECPv5.3.2.1//NONSGML v1.0//EN
CALSCALE:GREGORIAN
METHOD:PUBLISH
X-WR-CALNAME:Barcelona
X-ORIGINAL-URL:https://barcelonacolumbus.com
X-WR-CALDESC:Events for Barcelona
BEGIN:VTIMEZONE
TZID:America/New_York
BEGIN:DAYLIGHT
TZOFFSETFROM:-0500
TZOFFSETTO:-0400
TZNAME:EDT
DTSTART:20230312T070000
END:DAYLIGHT
BEGIN:STANDARD
TZOFFSETFROM:-0400
TZOFFSETTO:-0500
TZNAME:EST
DTSTART:20231105T060000
END:STANDARD
END:VTIMEZONE
BEGIN:VEVENT
DTSTART;TZID=America/New_York:20231128T170000
DTEND;TZID=America/New_York:20231128T190000
DTSTAMP:20260424T072652
CREATED:20231108T212454Z
LAST-MODIFIED:20231108T212623Z
UID:4873-1701190800-1701198000@barcelonacolumbus.com
SUMMARY:Artist's Reception for Sheila Cottingham
DESCRIPTION:Please join us to meet our featured artist for November and December\, Sheila Cottingham.\nHer reception will be from 5pm to 7pm on Tuesday\, November 28.\nComplimentary light tapas will be served.\n \n 
URL:https://barcelonacolumbus.com/event/artists-reception-for-sheila-cottingham/
END:VEVENT
END:VCALENDAR