BEGIN:VCALENDAR
VERSION:2.0
PRODID:-//Barcelona - ECPv5.3.2.1//NONSGML v1.0//EN
CALSCALE:GREGORIAN
METHOD:PUBLISH
X-WR-CALNAME:Barcelona
X-ORIGINAL-URL:https://barcelonacolumbus.com
X-WR-CALDESC:Events for Barcelona
BEGIN:VTIMEZONE
TZID:America/New_York
BEGIN:DAYLIGHT
TZOFFSETFROM:-0500
TZOFFSETTO:-0400
TZNAME:EDT
DTSTART:20240310T070000
END:DAYLIGHT
BEGIN:STANDARD
TZOFFSETFROM:-0400
TZOFFSETTO:-0500
TZNAME:EST
DTSTART:20241103T060000
END:STANDARD
END:VTIMEZONE
BEGIN:VEVENT
DTSTART;TZID=America/New_York:20240618T180000
DTEND;TZID=America/New_York:20240618T190000
DTSTAMP:20260425T073150
CREATED:20240515T174649Z
LAST-MODIFIED:20240515T211931Z
UID:5522-1718733600-1718737200@barcelonacolumbus.com
SUMMARY:Don Julio Tequila Tasting
DESCRIPTION:                     Don Julio Luxury Line Tequila Tasting\nTuesday\, June 18th 6pm\n$50 tax and gratuity included. Call or click here for reservations 614.443.3699\nEventbrite tickets Don Julio tasting\nWelcome cocktail\, four course tasting\, and paired tapas round.\nTequila line up includes\nPrimavera\nRosado\n1942\n                                              Alma Miel\nhttps://www.eventbrite.com/e/don-julio-tequila-tasting-tickets-906587466517?utm-campaign=social&utm-content=attendeeshare&utm-medium=discovery&utm-term=listing&utm-source=cp&aff=ebdsshcopyurl \n 
URL:https://barcelonacolumbus.com/event/don-julio-tequila-tasting/
LOCATION:Barcelona Restaurant\, 263 E. Whittier St.\, Columbus\, OH\, 43206\, United States
END:VEVENT
END:VCALENDAR