BEGIN:VCALENDAR
VERSION:2.0
PRODID:-//Barcelona - ECPv5.3.2.1//NONSGML v1.0//EN
CALSCALE:GREGORIAN
METHOD:PUBLISH
X-WR-CALNAME:Barcelona
X-ORIGINAL-URL:https://barcelonacolumbus.com
X-WR-CALDESC:Events for Barcelona
BEGIN:VTIMEZONE
TZID:America/New_York
BEGIN:DAYLIGHT
TZOFFSETFROM:-0500
TZOFFSETTO:-0400
TZNAME:EDT
DTSTART:20220313T070000
END:DAYLIGHT
BEGIN:STANDARD
TZOFFSETFROM:-0400
TZOFFSETTO:-0500
TZNAME:EST
DTSTART:20221106T060000
END:STANDARD
END:VTIMEZONE
BEGIN:VEVENT
DTSTART;TZID=America/New_York:20220522T110000
DTEND;TZID=America/New_York:20220522T150000
DTSTAMP:20260421T120632
CREATED:20220311T201538Z
LAST-MODIFIED:20220509T155912Z
UID:2918-1653217200-1653231600@barcelonacolumbus.com
SUMMARY:Fiesta Dominical
DESCRIPTION:Introducing our first \nFiesta Dominical \n(Sunday Party) \nJazz in the Garden \nMay 22\, 2022 \n11am to 3pm \n  \nPlease join us for a series of Sunday party events\, \neach with a different theme and its own vibe. These daytime parties will be the fourth Sunday of each month\, \nfrom May through September. \n  \nThere will be food\, drinks\, live music\, mini farmer’s market\, \nand maybe even some dancing! \n  \nFor reservations\, please call 614-443-3699
URL:https://barcelonacolumbus.com/event/fiesta-dominical/
ATTACH;FMTTYPE=image/jpeg:https://barcelonacolumbus.com/wp-content/uploads/2022/05/Fiesta-flier3-Large.jpeg
END:VEVENT
END:VCALENDAR