BEGIN:VCALENDAR
VERSION:2.0
PRODID:-//Barcelona - ECPv5.3.2.1//NONSGML v1.0//EN
CALSCALE:GREGORIAN
METHOD:PUBLISH
X-WR-CALNAME:Barcelona
X-ORIGINAL-URL:https://barcelonacolumbus.com
X-WR-CALDESC:Events for Barcelona
BEGIN:VTIMEZONE
TZID:America/New_York
BEGIN:DAYLIGHT
TZOFFSETFROM:-0500
TZOFFSETTO:-0400
TZNAME:EDT
DTSTART:20230312T070000
END:DAYLIGHT
BEGIN:STANDARD
TZOFFSETFROM:-0400
TZOFFSETTO:-0500
TZNAME:EST
DTSTART:20231105T060000
END:STANDARD
END:VTIMEZONE
BEGIN:VEVENT
DTSTART;TZID=America/New_York:20231218T170000
DTEND;TZID=America/New_York:20231218T190000
DTSTAMP:20260424T155555
CREATED:20231124T204457Z
LAST-MODIFIED:20231124T210641Z
UID:4916-1702918800-1702926000@barcelonacolumbus.com
SUMMARY:Holiday Wine Tasting & Food Drive
DESCRIPTION: HOLIDAY WINE TASTING\n&\nLIVINGSTON AVENUE UMC FOOD DRIVE\nAT\n \nwith\nHeidelberg Distributing\nPrivate Reserve Fine Wines\nVintage Wine Distributors\n&\nWineTrends\nMONDAY\, DECEMBER 18\, 2023\n5pm to 7pm\n(please allow plenty of time to taste)\nAll wines will be at state minimum pricing for carryout! \n20 WINES FOR $30\n(includes gratuity and tax)\nAll guests will receive a\nWHITE ENVELOPE GIFT\nfrom Barcelona!\nTO SUPPORT THE FOOD DRIVE\,\nBRING A BAG FULL OF NON-PERISHABLE FOOD ITEMS\nAND YOU WILL RECEIVE MORE WHITE ENVELOPES!\nLight snacks will be provided \nPlease note that the bar and kitchen will not be open\nprior to\, during\, nor after the event. \n Also\, this is a stand-up affair\, there will be very limited seating. \n Reservations with credit card\, please call 614-443-3699
URL:https://barcelonacolumbus.com/event/holiday-wine-tasting-food-drive/
END:VEVENT
END:VCALENDAR