BEGIN:VCALENDAR
VERSION:2.0
PRODID:-//Barcelona - ECPv5.3.2.1//NONSGML v1.0//EN
CALSCALE:GREGORIAN
METHOD:PUBLISH
X-WR-CALNAME:Barcelona
X-ORIGINAL-URL:https://barcelonacolumbus.com
X-WR-CALDESC:Events for Barcelona
BEGIN:VTIMEZONE
TZID:America/New_York
BEGIN:DAYLIGHT
TZOFFSETFROM:-0500
TZOFFSETTO:-0400
TZNAME:EDT
DTSTART:20220313T070000
END:DAYLIGHT
BEGIN:STANDARD
TZOFFSETFROM:-0400
TZOFFSETTO:-0500
TZNAME:EST
DTSTART:20221106T060000
END:STANDARD
END:VTIMEZONE
BEGIN:VEVENT
DTSTART;TZID=America/New_York:20221012T180000
DTEND;TZID=America/New_York:20221012T200000
DTSTAMP:20260421T160034
CREATED:20220908T202226Z
LAST-MODIFIED:20220930T203548Z
UID:3432-1665597600-1665604800@barcelonacolumbus.com
SUMMARY:Midweek Music
DESCRIPTION:Join us for an evening of live music featuring local talent from 6pm to 8pm. \nOn tap this evening will be our own Paul Marsh on guitar. \n 
URL:https://barcelonacolumbus.com/event/midweek-music-2/
END:VEVENT
END:VCALENDAR