BEGIN:VCALENDAR
VERSION:2.0
PRODID:-//Barcelona - ECPv5.3.2.1//NONSGML v1.0//EN
CALSCALE:GREGORIAN
METHOD:PUBLISH
X-WR-CALNAME:Barcelona
X-ORIGINAL-URL:https://barcelonacolumbus.com
X-WR-CALDESC:Events for Barcelona
BEGIN:VTIMEZONE
TZID:America/New_York
BEGIN:DAYLIGHT
TZOFFSETFROM:-0500
TZOFFSETTO:-0400
TZNAME:EDT
DTSTART:20230312T070000
END:DAYLIGHT
BEGIN:STANDARD
TZOFFSETFROM:-0400
TZOFFSETTO:-0500
TZNAME:EST
DTSTART:20231105T060000
END:STANDARD
END:VTIMEZONE
BEGIN:VEVENT
DTSTART;TZID=America/New_York:20230419T180000
DTEND;TZID=America/New_York:20230419T200000
DTSTAMP:20260422T065805
CREATED:20230313T193736Z
LAST-MODIFIED:20230313T193736Z
UID:4021-1681927200-1681934400@barcelonacolumbus.com
SUMMARY:Midweek Music
DESCRIPTION:Join us for an evening of live music from 6pm to 8pm featuring Paul Marsh on Spanish guitar!
URL:https://barcelonacolumbus.com/event/midweek-music-28/
END:VEVENT
END:VCALENDAR