BEGIN:VCALENDAR
VERSION:2.0
PRODID:-//Barcelona - ECPv5.3.2.1//NONSGML v1.0//EN
CALSCALE:GREGORIAN
METHOD:PUBLISH
X-WR-CALNAME:Barcelona
X-ORIGINAL-URL:https://barcelonacolumbus.com
X-WR-CALDESC:Events for Barcelona
BEGIN:VTIMEZONE
TZID:America/New_York
BEGIN:DAYLIGHT
TZOFFSETFROM:-0500
TZOFFSETTO:-0400
TZNAME:EDT
DTSTART:20230312T070000
END:DAYLIGHT
BEGIN:STANDARD
TZOFFSETFROM:-0400
TZOFFSETTO:-0500
TZNAME:EST
DTSTART:20231105T060000
END:STANDARD
END:VTIMEZONE
BEGIN:VEVENT
DTSTART;TZID=America/New_York:20231213T180000
DTEND;TZID=America/New_York:20231213T200000
DTSTAMP:20260419T173837
CREATED:20231108T172336Z
LAST-MODIFIED:20231108T172336Z
UID:4861-1702490400-1702497600@barcelonacolumbus.com
SUMMARY:Midweek Music - Doug Hare
DESCRIPTION:Join us on Wednesday nights as we present some of the best musicians in Columbus!\nTonight\, we are proud to present Doug Hare on keyboard from 6pm to 8pm.
URL:https://barcelonacolumbus.com/event/midweek-music-doug-hare/
END:VEVENT
END:VCALENDAR