BEGIN:VCALENDAR
VERSION:2.0
PRODID:-//Barcelona - ECPv5.3.2.1//NONSGML v1.0//EN
CALSCALE:GREGORIAN
METHOD:PUBLISH
X-WR-CALNAME:Barcelona
X-ORIGINAL-URL:https://barcelonacolumbus.com
X-WR-CALDESC:Events for Barcelona
BEGIN:VTIMEZONE
TZID:America/New_York
BEGIN:DAYLIGHT
TZOFFSETFROM:-0500
TZOFFSETTO:-0400
TZNAME:EDT
DTSTART:20230312T070000
END:DAYLIGHT
BEGIN:STANDARD
TZOFFSETFROM:-0400
TZOFFSETTO:-0500
TZNAME:EST
DTSTART:20231105T060000
END:STANDARD
END:VTIMEZONE
BEGIN:VEVENT
DTSTART;TZID=America/New_York:20231122T180000
DTEND;TZID=America/New_York:20231122T200000
DTSTAMP:20260420T145507
CREATED:20231102T170904Z
LAST-MODIFIED:20231107T154906Z
UID:4808-1700676000-1700683200@barcelonacolumbus.com
SUMMARY:Midweek Music - Eugene Braig and Sheri Stanley
DESCRIPTION:Join us on Wednesday nights as we present some of the best musicians in Columbus!\nTonight\, we are proud to present Duo Kapelle featuring Eugene Braig and Sheri Stanley from 6pm to 8pm.
URL:https://barcelonacolumbus.com/event/midweek-music-eugene-braig/
END:VEVENT
END:VCALENDAR