BEGIN:VCALENDAR
VERSION:2.0
PRODID:-//Barcelona - ECPv5.3.2.1//NONSGML v1.0//EN
CALSCALE:GREGORIAN
METHOD:PUBLISH
X-WR-CALNAME:Barcelona
X-ORIGINAL-URL:https://barcelonacolumbus.com
X-WR-CALDESC:Events for Barcelona
BEGIN:VTIMEZONE
TZID:America/New_York
BEGIN:DAYLIGHT
TZOFFSETFROM:-0500
TZOFFSETTO:-0400
TZNAME:EDT
DTSTART:20220313T070000
END:DAYLIGHT
BEGIN:STANDARD
TZOFFSETFROM:-0400
TZOFFSETTO:-0500
TZNAME:EST
DTSTART:20221106T060000
END:STANDARD
END:VTIMEZONE
BEGIN:VEVENT
DTSTART;TZID=America/New_York:20220508T110000
DTEND;TZID=America/New_York:20220508T210000
DTSTAMP:20260421T104429
CREATED:20220311T202723Z
LAST-MODIFIED:20220311T202723Z
UID:2930-1652007600-1652043600@barcelonacolumbus.com
SUMMARY:Mother's Day
DESCRIPTION:Treat that special lady in your life! We are offering our dinner menu all day on Sunday\, May 8th with seating from 11am until 9pm. \nOur retail wine night\, “Unwin’d Sunday”\, will be in effect the entire day.
URL:https://barcelonacolumbus.com/event/mothers-day/
END:VEVENT
END:VCALENDAR