BEGIN:VCALENDAR
VERSION:2.0
PRODID:-//Barcelona - ECPv5.3.2.1//NONSGML v1.0//EN
CALSCALE:GREGORIAN
METHOD:PUBLISH
X-WR-CALNAME:Barcelona
X-ORIGINAL-URL:https://barcelonacolumbus.com
X-WR-CALDESC:Events for Barcelona
BEGIN:VTIMEZONE
TZID:America/New_York
BEGIN:DAYLIGHT
TZOFFSETFROM:-0500
TZOFFSETTO:-0400
TZNAME:EDT
DTSTART:20200308T070000
END:DAYLIGHT
BEGIN:STANDARD
TZOFFSETFROM:-0400
TZOFFSETTO:-0500
TZNAME:EST
DTSTART:20201101T060000
END:STANDARD
END:VTIMEZONE
BEGIN:VEVENT
DTSTART;TZID=America/New_York:20201125T130000
DTEND;TZID=America/New_York:20201125T170000
DTSTAMP:20260424T125425
CREATED:20201117T214003Z
LAST-MODIFIED:20201117T214003Z
UID:1758-1606309200-1606323600@barcelonacolumbus.com
SUMMARY:Pop Up Thanksgiving Market
DESCRIPTION:is excited to announce our very first \nPOP UP THANKSGIVING MARKET! \nWednesday\, November 25\, 2020 \n1:00 – 5:00 pm \n  \nAs you and your bubble get together on Thanksgiving Day\, let us enhance your celebration by adding on some of your Barcelona favorites! \n  \nMarket Includes: \nCold Tapas in 1/2 pint containers: \nHumus Verde – green chickpea hummus \nVegetales en Escabeche – season pickled vegetables \nEnsalada de Cebada – barley salad \nAceitunas Mixta – Mediterranean olive mix \nTorres de Tapas – tapa tower of above tapas plus Marcona almonds \n  \nPlato de Charcuteria – chefs selection of cured meats and artisanal cheeses \nPaella Kits \nChicken\, Shrimp and Chorizo \nVegetarian \n  \nSangria Growler \nRed \nWhite \nSparkling \n  \nOrder ahead for curbside pickup or come in for other retail items:  \nCloseout Wines \nGift Baskets \nBarcelona Blankets \nCandles \nChocolate \nand more
URL:https://barcelonacolumbus.com/event/pop-up-thanksgiving-market/
LOCATION:Barcelona Restaurant\, 263 E. Whittier St.\, Columbus\, OH\, 43206\, United States
END:VEVENT
END:VCALENDAR