BEGIN:VCALENDAR
VERSION:2.0
PRODID:-//Barcelona - ECPv5.3.2.1//NONSGML v1.0//EN
CALSCALE:GREGORIAN
METHOD:PUBLISH
X-WR-CALNAME:Barcelona
X-ORIGINAL-URL:https://barcelonacolumbus.com
X-WR-CALDESC:Events for Barcelona
BEGIN:VTIMEZONE
TZID:America/New_York
BEGIN:DAYLIGHT
TZOFFSETFROM:-0500
TZOFFSETTO:-0400
TZNAME:EDT
DTSTART:20240310T070000
END:DAYLIGHT
BEGIN:STANDARD
TZOFFSETFROM:-0400
TZOFFSETTO:-0500
TZNAME:EST
DTSTART:20241103T060000
END:STANDARD
END:VTIMEZONE
BEGIN:VEVENT
DTSTART;TZID=America/New_York:20240206T180000
DTEND;TZID=America/New_York:20240206T190000
DTSTAMP:20260421T105120
CREATED:20240109T214328Z
LAST-MODIFIED:20240122T202425Z
UID:5012-1707242400-1707246000@barcelonacolumbus.com
SUMMARY:Spanish Wine Tasting - SOLD OUT
DESCRIPTION:Please join us and\nKen Harvey of Cutting Edge Selections\nfor our\nSpanish Wine Tasting\nfeaturing the wines of\nHonoro Vera!\n***\nTuesday\, February 6\, 2024\n6:00pm\n$25 per person\, includes gratuity and tax\nLimited Seating – No Cancellations \nTo Taste \n Honoro Vera Blanco 2022 \n Honoro Vera Rioja 2021 \nHonoro Vera Organic Monastrell 2022 \n Honoro Vera Irreverent Red Blend 2021\nGarnacha\, Syrah\, Monastrell \n Honoro Vera Cabernet Sauvignon 2022 \n Plus a delightful tapa from Chef Nate! \n For the wine tasting and dinner reservations\, please call 614-443-3699.
URL:https://barcelonacolumbus.com/event/spanish-wine-tasting-2/
END:VEVENT
END:VCALENDAR