BEGIN:VCALENDAR
VERSION:2.0
PRODID:-//Barcelona - ECPv5.3.2.1//NONSGML v1.0//EN
CALSCALE:GREGORIAN
METHOD:PUBLISH
X-WR-CALNAME:Barcelona
X-ORIGINAL-URL:https://barcelonacolumbus.com
X-WR-CALDESC:Events for Barcelona
BEGIN:VTIMEZONE
TZID:America/New_York
BEGIN:DAYLIGHT
TZOFFSETFROM:-0500
TZOFFSETTO:-0400
TZNAME:EDT
DTSTART:20200308T070000
END:DAYLIGHT
BEGIN:STANDARD
TZOFFSETFROM:-0400
TZOFFSETTO:-0500
TZNAME:EST
DTSTART:20201101T060000
END:STANDARD
END:VTIMEZONE
BEGIN:VEVENT
DTSTART;TZID=America/New_York:20201122T180000
DTEND;TZID=America/New_York:20201122T200000
DTSTAMP:20260420T092536
CREATED:20201001T222139Z
LAST-MODIFIED:20201001T222139Z
UID:1502-1606068000-1606075200@barcelonacolumbus.com
SUMMARY:Sunday Dinner Music - Vernon Hairson
DESCRIPTION:Vernon Hairston has a Bachelor of Music in Jazz Composition from the Ohio State University where he studied with the late great Hank Marr. He also holds a Bachelor of Music Education in Vocal Pedagogy from OSU. He has served as musical director for the stage play “This Man Jesus” featuring Jennifer Holliday\, and musical director for “If Loving You is Wrong\, I Don’t Want to Be Right”\, featuring Anthony Watson of the Chi-Lites. He has also served as music director for various churches locally and nationally. Vernon has performed with international jazz recording artist Kevin Mahogany. Vernon has produced recording projects and recorded and toured with such artists as Grammy Award Winner The New King James Version\, Keith Dobbins and Resurrection\, Chris Byrd\, The Golden Gospel Singers\, a European based gospel group\, Keith Harrison of The Time\, and Dove Award nominee Kevin Turner. Vernon currently heads his own band\, the Vernon Hairston Trio and continues to work with a variety of musicians on a local and national level.\nThis evening\, he will be performing with his daughter Dr. Arianna Michele !!!
URL:https://barcelonacolumbus.com/event/sunday-dinner-music-vernon-hairson/
LOCATION:Barcelona Restaurant\, 263 E. Whittier St.\, Columbus\, OH\, 43206\, United States
END:VEVENT
END:VCALENDAR