BEGIN:VCALENDAR
VERSION:2.0
PRODID:-//Barcelona - ECPv5.3.2.1//NONSGML v1.0//EN
CALSCALE:GREGORIAN
METHOD:PUBLISH
X-WR-CALNAME:Barcelona
X-ORIGINAL-URL:https://barcelonacolumbus.com
X-WR-CALDESC:Events for Barcelona
BEGIN:VTIMEZONE
TZID:America/New_York
BEGIN:DAYLIGHT
TZOFFSETFROM:-0500
TZOFFSETTO:-0400
TZNAME:EDT
DTSTART:20220313T070000
END:DAYLIGHT
BEGIN:STANDARD
TZOFFSETFROM:-0400
TZOFFSETTO:-0500
TZNAME:EST
DTSTART:20221106T060000
END:STANDARD
END:VTIMEZONE
BEGIN:VEVENT
DTSTART;VALUE=DATE:20220211
DTEND;VALUE=DATE:20220215
DTSTAMP:20260421T113726
CREATED:20220128T171832Z
LAST-MODIFIED:20220128T171832Z
UID:2809-1644537600-1644883199@barcelonacolumbus.com
SUMMARY:Valentine's Dinner Celebration Weekend
DESCRIPTION:Barcelona Restaurant and Bar invites you to join us for your Valentine’s Dinner Celebration! \nAlong with your special loved one\, join us during this four day weekend as we will be seating from 4pm until 10pm \non Friday\, Saturday\, Sunday and Monday\, February 11-14\, 2022! \nOur regular dinner menus and specials will be available each night! \n 
URL:https://barcelonacolumbus.com/event/valentines-dinner-celebration-weekend/
END:VEVENT
END:VCALENDAR