BEGIN:VCALENDAR
VERSION:2.0
PRODID:-//Barcelona - ECPv5.3.2.1//NONSGML v1.0//EN
CALSCALE:GREGORIAN
METHOD:PUBLISH
X-WR-CALNAME:Barcelona
X-ORIGINAL-URL:https://barcelonacolumbus.com
X-WR-CALDESC:Events for Barcelona
BEGIN:VTIMEZONE
TZID:America/New_York
BEGIN:DAYLIGHT
TZOFFSETFROM:-0500
TZOFFSETTO:-0400
TZNAME:EDT
DTSTART:20230312T070000
END:DAYLIGHT
BEGIN:STANDARD
TZOFFSETFROM:-0400
TZOFFSETTO:-0500
TZNAME:EST
DTSTART:20231105T060000
END:STANDARD
END:VTIMEZONE
BEGIN:VEVENT
DTSTART;TZID=America/New_York:20230417T180000
DTEND;TZID=America/New_York:20230417T210000
DTSTAMP:20260420T113844
CREATED:20230310T192602Z
LAST-MODIFIED:20230317T170945Z
UID:4002-1681754400-1681765200@barcelonacolumbus.com
SUMMARY:"World Malbec Day" Wine Dinner
DESCRIPTION:Argentine Wine and Tango Dinner Show!\nMonday\, April 17\, 2023 \nDoors open at 5pm for Cocktails \nDinner and Show at 6pm\nIn honor of World Malbec Day\, we invite you to join us and Matias Pascotto\, Marketing Manager for Grupo Colomé\,\nfor this memorable evening of food\, wine and dance! \nDuring this delightful five course wine dinner by Chef Nate\,you will be entertained by the grace and swift feet of Argentine Tango dancers\,\nFrancesco Guerra and Katie Myers! \n$100/person includes show ticket and 5-course dinner with wine.\nDoes not include gratuity and tax. \nAll reservations are final. Limited seating with priority seating based on reservation date. \n \nMenu\nFondue de Queso de Cabra\nGoat cheese fondue; red pepper jam\, sourdough\, fennel honey\nBodega Colomé Estate Torrontés 2021 \nTernera\nVeal ravioli; harissa pomodoro\, house ricotta\, Spanish picada\nBodega Colomé “Auténtico” Malbec 2021 \nVaca\nFlank steak; smashed potato\, chimichurri\, sea salt\nBodega Colomé Estate Malbec 2020 \nCordero\nLeg of lamb; stewed chickpeas\, lemon labneh\, mint oil\nBodega Colomé “El Arenal” Malbec 2020 \nSuero de Leche Panna Cotta\nButtermilk panna cotta; apricot gastrique\, quince\, phyllo shards\nBodega Amalaya Rosé 2022 \nPlease call 614-443-3699 for reservations or on EventBrite.
URL:https://barcelonacolumbus.com/event/world-malbec-day-wine-dinner/
END:VEVENT
END:VCALENDAR