BEGIN:VCALENDAR
VERSION:2.0
PRODID:-//Barcelona - ECPv5.3.2.1//NONSGML v1.0//EN
CALSCALE:GREGORIAN
METHOD:PUBLISH
X-WR-CALNAME:Barcelona
X-ORIGINAL-URL:https://barcelonacolumbus.com
X-WR-CALDESC:Events for Barcelona
BEGIN:VTIMEZONE
TZID:America/New_York
BEGIN:DAYLIGHT
TZOFFSETFROM:-0500
TZOFFSETTO:-0400
TZNAME:EDT
DTSTART:20210314T070000
END:DAYLIGHT
BEGIN:STANDARD
TZOFFSETFROM:-0400
TZOFFSETTO:-0500
TZNAME:EST
DTSTART:20211107T060000
END:STANDARD
END:VTIMEZONE
BEGIN:VEVENT
DTSTART;TZID=America/New_York:20210706T160000
DTEND;TZID=America/New_York:20210706T210000
DTSTAMP:20260422T112542
CREATED:20210528T162251Z
LAST-MODIFIED:20210528T162251Z
UID:2235-1625587200-1625605200@barcelonacolumbus.com
SUMMARY:Tapas Tuesday
DESCRIPTION:Please join us the first Tuesday of every month for Half Priced Tapas throughout the restaurant!
URL:https://barcelonacolumbus.com/event/tapas-tuesday-8/
LOCATION:Barcelona Restaurant\, 263 E. Whittier St.\, Columbus\, OH\, 43206\, United States
END:VEVENT
BEGIN:VEVENT
DTSTART;TZID=America/New_York:20210713T080000
DTEND;TZID=America/New_York:20210725T210000
DTSTAMP:20260422T112542
CREATED:20210713T175645Z
LAST-MODIFIED:20210713T175656Z
UID:2336-1626163200-1627246800@barcelonacolumbus.com
SUMMARY:Christmas in July Gift Card Sale and Teddy Bear Drive
DESCRIPTION:Gift Card Sale – purchase $100 in gift cards and recieve a $25 gift certificate bonus: can be purchased online or in person at the restaurant \nFood Drive – collecting non-perishable food items for the Livingston Ave United Methodist Church Food Pantry \nTeddy Bear Drive – collecting new Teddy Bears for Nationwide Children’s Hospital \n  \n 
URL:https://barcelonacolumbus.com/event/christmas-in-july-gift-card-sale-and-teddy-bear-drive/
LOCATION:OH
END:VEVENT
END:VCALENDAR