BEGIN:VCALENDAR
VERSION:2.0
PRODID:-//Barcelona - ECPv5.3.2.1//NONSGML v1.0//EN
CALSCALE:GREGORIAN
METHOD:PUBLISH
X-WR-CALNAME:Barcelona
X-ORIGINAL-URL:https://barcelonacolumbus.com
X-WR-CALDESC:Events for Barcelona
BEGIN:VTIMEZONE
TZID:America/New_York
BEGIN:DAYLIGHT
TZOFFSETFROM:-0500
TZOFFSETTO:-0400
TZNAME:EDT
DTSTART:20260308T070000
END:DAYLIGHT
BEGIN:STANDARD
TZOFFSETFROM:-0400
TZOFFSETTO:-0500
TZNAME:EST
DTSTART:20261101T060000
END:STANDARD
END:VTIMEZONE
BEGIN:VEVENT
DTSTART;TZID=America/New_York:20260401T180000
DTEND;TZID=America/New_York:20260401T200000
DTSTAMP:20260420T145108
CREATED:20260129T192032Z
LAST-MODIFIED:20260129T192032Z
UID:7347-1775066400-1775073600@barcelonacolumbus.com
SUMMARY:Midweek Music - Paul Marsh
DESCRIPTION:PLEASE JOIN US EACH WEDNESDAY AS WE SHOWCASE\nSOME OF THE BEST MUSICAL TALENT IN COLUMBUS!\n\nTONIGHT\, FOR YOUR LISTENING PLEASURE WE PRESENT\nOUR OWN PAUL MARSH FROM 6PM TO 8PM!\n \n\n\n+ Google Calendar+ iCal Export
URL:https://barcelonacolumbus.com/event/midweek-music-paul-marsh-30/
LOCATION:OH
END:VEVENT
BEGIN:VEVENT
DTSTART;TZID=America/New_York:20260408T180000
DTEND;TZID=America/New_York:20260408T200000
DTSTAMP:20260420T145108
CREATED:20260226T172649Z
LAST-MODIFIED:20260226T172649Z
UID:7440-1775671200-1775678400@barcelonacolumbus.com
SUMMARY:Midweek Music - Doug Hare and Emily Ng
DESCRIPTION:PLEASE JOIN US EACH WEDNESDAY AS WE SHOWCASE\nSOME OF THE BEST MUSICAL TALENT IN COLUMBUS!\n\nDoug Hare and Emily Ng\n\n\n+ Google Calendar+ iCal Export
URL:https://barcelonacolumbus.com/event/midweek-music-doug-hare-and-emily-ng/
LOCATION:OH
END:VEVENT
BEGIN:VEVENT
DTSTART;TZID=America/New_York:20260415T180000
DTEND;TZID=America/New_York:20260415T200000
DTSTAMP:20260420T145108
CREATED:20260226T172805Z
LAST-MODIFIED:20260226T172805Z
UID:7442-1776276000-1776283200@barcelonacolumbus.com
SUMMARY:Midweek Music - Stan Smith and Roger Hines
DESCRIPTION:PLEASE JOIN US EACH WEDNESDAY AS WE SHOWCASE\nSOME OF THE BEST MUSICAL TALENT IN COLUMBUS!\n\nStan Smith and Roger Hines\n\n\n+ Google Calendar+ iCal Export
URL:https://barcelonacolumbus.com/event/midweek-music-stan-smith-and-roger-hines-2/
LOCATION:OH
END:VEVENT
BEGIN:VEVENT
DTSTART;TZID=America/New_York:20260422T180000
DTEND;TZID=America/New_York:20260422T200000
DTSTAMP:20260420T145108
CREATED:20260226T172944Z
LAST-MODIFIED:20260226T172944Z
UID:7444-1776880800-1776888000@barcelonacolumbus.com
SUMMARY:Midweek Music - Colin Lazarski
DESCRIPTION:PLEASE JOIN US EACH WEDNESDAY AS WE SHOWCASE\nSOME OF THE BEST MUSICAL TALENT IN COLUMBUS!\n\nColin Lazarski\n\n\n+ Google Calendar+ iCal Export
URL:https://barcelonacolumbus.com/event/midweek-music-colin-lazarski-7/
LOCATION:OH
END:VEVENT
END:VCALENDAR